BEGIN:VCALENDAR
VERSION:2.0
PRODID:-//Tamala Floyd - ECPv6.15.20//NONSGML v1.0//EN
CALSCALE:GREGORIAN
METHOD:PUBLISH
X-ORIGINAL-URL:https://www.tamalafloyd.com
X-WR-CALDESC:Events for Tamala Floyd
REFRESH-INTERVAL;VALUE=DURATION:PT1H
X-Robots-Tag:noindex
X-PUBLISHED-TTL:PT1H
BEGIN:VTIMEZONE
TZID:America/New_York
BEGIN:DAYLIGHT
TZOFFSETFROM:-0500
TZOFFSETTO:-0400
TZNAME:EDT
DTSTART:20250309T070000
END:DAYLIGHT
BEGIN:STANDARD
TZOFFSETFROM:-0400
TZOFFSETTO:-0500
TZNAME:EST
DTSTART:20251102T060000
END:STANDARD
BEGIN:DAYLIGHT
TZOFFSETFROM:-0500
TZOFFSETTO:-0400
TZNAME:EDT
DTSTART:20260308T070000
END:DAYLIGHT
BEGIN:STANDARD
TZOFFSETFROM:-0400
TZOFFSETTO:-0500
TZNAME:EST
DTSTART:20261101T060000
END:STANDARD
BEGIN:DAYLIGHT
TZOFFSETFROM:-0500
TZOFFSETTO:-0400
TZNAME:EDT
DTSTART:20270314T070000
END:DAYLIGHT
BEGIN:STANDARD
TZOFFSETFROM:-0400
TZOFFSETTO:-0500
TZNAME:EST
DTSTART:20271107T060000
END:STANDARD
END:VTIMEZONE
BEGIN:VEVENT
DTSTART;VALUE=DATE:20260809
DTEND;VALUE=DATE:20260817
DTSTAMP:20260423T182911
CREATED:20250918T225009Z
LAST-MODIFIED:20260421T172636Z
UID:851-1786233600-1786924799@www.tamalafloyd.com
SUMMARY:LWPS Workshop @ Omega Institute
DESCRIPTION:
URL:https://www.tamalafloyd.com/event/lwps-workshop-omega-institute/
LOCATION:Omega Institute for Holistic Studies\, 150 Lake Dr\, Rhinebeck\, NY\, 12572\, United States
CATEGORIES:Outside Events
ATTACH;FMTTYPE=image/jpeg:https://www.tamalafloyd.com/wp-content/uploads/2025/09/floyd-schweitzer_listening-when-parts-speak_ig-post.jpg
END:VEVENT
END:VCALENDAR