BEGIN:VCALENDAR
VERSION:2.0
PRODID:-//Tamala Floyd - ECPv6.15.20//NONSGML v1.0//EN
CALSCALE:GREGORIAN
METHOD:PUBLISH
X-WR-CALNAME:Tamala Floyd
X-ORIGINAL-URL:https://www.tamalafloyd.com
X-WR-CALDESC:Events for Tamala Floyd
REFRESH-INTERVAL;VALUE=DURATION:PT1H
X-Robots-Tag:noindex
X-PUBLISHED-TTL:PT1H
BEGIN:VTIMEZONE
TZID:America/New_York
BEGIN:DAYLIGHT
TZOFFSETFROM:-0500
TZOFFSETTO:-0400
TZNAME:EDT
DTSTART:20250309T070000
END:DAYLIGHT
BEGIN:STANDARD
TZOFFSETFROM:-0400
TZOFFSETTO:-0500
TZNAME:EST
DTSTART:20251102T060000
END:STANDARD
BEGIN:DAYLIGHT
TZOFFSETFROM:-0500
TZOFFSETTO:-0400
TZNAME:EDT
DTSTART:20260308T070000
END:DAYLIGHT
BEGIN:STANDARD
TZOFFSETFROM:-0400
TZOFFSETTO:-0500
TZNAME:EST
DTSTART:20261101T060000
END:STANDARD
BEGIN:DAYLIGHT
TZOFFSETFROM:-0500
TZOFFSETTO:-0400
TZNAME:EDT
DTSTART:20270314T070000
END:DAYLIGHT
BEGIN:STANDARD
TZOFFSETFROM:-0400
TZOFFSETTO:-0500
TZNAME:EST
DTSTART:20271107T060000
END:STANDARD
END:VTIMEZONE
BEGIN:VEVENT
DTSTART;VALUE=DATE:20260524
DTEND;VALUE=DATE:20260530
DTSTAMP:20260423T153407
CREATED:20250918T223503Z
LAST-MODIFIED:20251219T215308Z
UID:837-1779580800-1780099199@www.tamalafloyd.com
SUMMARY:The Therapist's Inheritance Retreat
DESCRIPTION:We would love to invite you to The Therapist’s Inheritance Retreat with Tamala Floyd—a thoughtfully curated experience designed for IFS-trained therapists and practitioners. \nAs you know\, IFS is an inside-out model. This retreat offers you a sacred space to connect with the parts of yourself that carry legacy burdens and heirlooms. By working with your own legacy material\, you’ll deepen your healing and become even more resourced to support your clients as they navigate their generational trauma and begin to access their own legacy gifts. \nThis retreat is for therapists and practitioners who understand that the depth of their own healing work directly impacts the success they experience with clients. It’s for those who feel a deep calling to connect with the wisdom of their ancestral lines to uncover the gifts and heirlooms that are rightfully theirs. \nOur ancestors are waiting. They long for connection\, healing\, and remembrance. \nThis retreat is your opportunity to bond with them\, release long-standing burdens\, and awaken the wisdom of those who came before—while also forging new\, loving connections. \nThe retreat is open to IFS Level 1 and above graduates only. \n20 IFS-CE credits are pending approval for this Retreat which can be used towards IFS certification or recertification. \nThis retreat is limited to 40 participants. \nWhat to expect from this retreat:\n\nBring awareness and healing to multi-layered trauma and burdens\nConnect with your wise\, intuitive\, internal healing resource\nHeal wounds and release burdens with the support of your loving ancestors\nCollective unburdening and healing in a community\nLearn how to work with your legacy burdens\, lead from your true essence\, increasing your ability to help your clients with their legacy work.\n\nBy the end of this retreat\, you’ll be invited to explore ways to incorporate these tools into your daily life and into your work with clients\, you’ll feel deeply connected to yourself\, and you’ll have the opportunity to cultivate a new or deepened relationship with supportive ancestors to guide you through your daily life. \nLearn more: https://www.souliology.com/the-therapists-inheritance
URL:https://www.tamalafloyd.com/event/the-therapists-inheritance-retreat/
LOCATION:Sesimbra\, Portugal\, Sesimbra\, Portugal
CATEGORIES:TLA Retreats
ATTACH;FMTTYPE=image/avif:https://www.tamalafloyd.com/wp-content/uploads/2025/09/Image-by-Dalal.avif
ORGANIZER;CN="Tamala Floyd%2C The Living Ancestor":MAILTO:info@tamalafloyd.com
END:VEVENT
END:VCALENDAR