BEGIN:VCALENDAR
VERSION:2.0
PRODID:-//Tamala Floyd - ECPv6.15.20//NONSGML v1.0//EN
CALSCALE:GREGORIAN
METHOD:PUBLISH
X-ORIGINAL-URL:https://www.tamalafloyd.com
X-WR-CALDESC:Events for Tamala Floyd
REFRESH-INTERVAL;VALUE=DURATION:PT1H
X-Robots-Tag:noindex
X-PUBLISHED-TTL:PT1H
BEGIN:VTIMEZONE
TZID:America/New_York
BEGIN:DAYLIGHT
TZOFFSETFROM:-0500
TZOFFSETTO:-0400
TZNAME:EDT
DTSTART:20250309T070000
END:DAYLIGHT
BEGIN:STANDARD
TZOFFSETFROM:-0400
TZOFFSETTO:-0500
TZNAME:EST
DTSTART:20251102T060000
END:STANDARD
BEGIN:DAYLIGHT
TZOFFSETFROM:-0500
TZOFFSETTO:-0400
TZNAME:EDT
DTSTART:20260308T070000
END:DAYLIGHT
BEGIN:STANDARD
TZOFFSETFROM:-0400
TZOFFSETTO:-0500
TZNAME:EST
DTSTART:20261101T060000
END:STANDARD
BEGIN:DAYLIGHT
TZOFFSETFROM:-0500
TZOFFSETTO:-0400
TZNAME:EDT
DTSTART:20270314T070000
END:DAYLIGHT
BEGIN:STANDARD
TZOFFSETFROM:-0400
TZOFFSETTO:-0500
TZNAME:EST
DTSTART:20271107T060000
END:STANDARD
END:VTIMEZONE
BEGIN:VEVENT
DTSTART;VALUE=DATE:20260318
DTEND;VALUE=DATE:20260325
DTSTAMP:20260423T140944
CREATED:20250818T205156Z
LAST-MODIFIED:20260121T223607Z
UID:665-1773792000-1774396799@www.tamalafloyd.com
SUMMARY:2026 LWPS Retreat Costa Rica
DESCRIPTION:What if the key to your healing journey lies within you and in the wisdom carried by your ancestral line? The Listening When Parts Speak Retreat is a curated experience designed to help you access the gifts of your ancestry while transforming the burdens of personal\, cultural\, and intergenerational trauma. Together\, we will facilitate a relationship between your parts and your internal healing resource called Self. \nThrough mindfulness\, guided meditation\, experiential exercises\, and teachings from the Internal Family Systems (IFS) model\, you’ll deepen your connection to your internal healing resource and build relationships with the parts of you that carry the weight of trauma. \nDuring this workshop\, we will explore: \n\nMindfulness practices bring attention and presence to here and now experiences.\nExperiential exercises to connect with your inner parts and wise ancestors.\nWays to access the gifts and heirlooms of your ancestral lines.\nCollective unburdening and healing in a community of feminine energy.\nDemonstrations of the healing potential of IFS and ancestor wisdom.\n\nBy the end of the retreat\, you’ll be invited to explore ways to incorporate these tools into your daily life to help calm activated or triggered parts of yourself. You’ll have the opportunity to cultivate a new or deepened relationship with supportive ancestors to guide you through your daily life. Additionally\, you’ll be encouraged to reflect on a greater understanding of the inner parts of others that make you less likely to personalize their behavior.
URL:https://www.tamalafloyd.com/event/2026-lwps-retreat-costa-rica/
LOCATION:Vajra Jahra Retreat Center\, 2 km Este de plaza de San Salvador Hotel\, Pérez Zeledón\, San José\, Costa Rica
CATEGORIES:TLA Retreats
ATTACH;FMTTYPE=image/jpeg:https://www.tamalafloyd.com/wp-content/uploads/2025/08/Vajra-Jahra-Retreat-Center.jpg
ORGANIZER;CN="Tamala Floyd%2C The Living Ancestor":MAILTO:info@tamalafloyd.com
END:VEVENT
BEGIN:VEVENT
DTSTART;TZID=America/New_York:20260109T130000
DTEND;TZID=America/New_York:20260109T140000
DTSTAMP:20260423T140944
CREATED:20251230T162915Z
LAST-MODIFIED:20251230T163722Z
UID:1436-1767963600-1767967200@www.tamalafloyd.com
SUMMARY:Listening When Parts Speak Info Session
DESCRIPTION:An Invitation for Women to Learn More About the Retreat\n \nI’m hosting a Retreat Information Session on January 9th at 1 pm for women of color who feel curious or called to the Listening When Parts Speak retreat in Costa Rica this March. \nThis retreat centers on Healing Legacy Burdens with Ancestral Wisdom and is designed for those who want to engage in deep parts work\, generational healing\, and nervous system care in a supportive and intentional community. \nDuring the info session\, I’ll share more about the retreat experience\, who it’s for\, and what we’ll be exploring together. There will also be space for your questions. \nIf you’re sensing a quiet yes or simply want to learn more\, I invite you to join us. \nWhen: Friday\, January 9th\, 2026\, 1 PM EST \nWhere: Zoom \nCost: Free\nREGISTER NOW
URL:https://www.tamalafloyd.com/event/listening-when-parts-speak-info-session/
LOCATION:Online
CATEGORIES:Outside Events,TLA Retreats
ATTACH;FMTTYPE=image/png:https://www.tamalafloyd.com/wp-content/uploads/2025/12/Orange-Minimalist-Professional-Live-Webinar-Email-Header-Instagram-Post-45.png
ORGANIZER;CN="Tamala Floyd%2C The Living Ancestor":MAILTO:info@tamalafloyd.com
END:VEVENT
END:VCALENDAR