BEGIN:VCALENDAR
VERSION:2.0
PRODID:-//Tamala Floyd - ECPv6.15.20//NONSGML v1.0//EN
CALSCALE:GREGORIAN
METHOD:PUBLISH
X-WR-CALNAME:Tamala Floyd
X-ORIGINAL-URL:https://www.tamalafloyd.com
X-WR-CALDESC:Events for Tamala Floyd
REFRESH-INTERVAL;VALUE=DURATION:PT1H
X-Robots-Tag:noindex
X-PUBLISHED-TTL:PT1H
BEGIN:VTIMEZONE
TZID:America/New_York
BEGIN:DAYLIGHT
TZOFFSETFROM:-0500
TZOFFSETTO:-0400
TZNAME:EDT
DTSTART:20250309T070000
END:DAYLIGHT
BEGIN:STANDARD
TZOFFSETFROM:-0400
TZOFFSETTO:-0500
TZNAME:EST
DTSTART:20251102T060000
END:STANDARD
BEGIN:DAYLIGHT
TZOFFSETFROM:-0500
TZOFFSETTO:-0400
TZNAME:EDT
DTSTART:20260308T070000
END:DAYLIGHT
BEGIN:STANDARD
TZOFFSETFROM:-0400
TZOFFSETTO:-0500
TZNAME:EST
DTSTART:20261101T060000
END:STANDARD
BEGIN:DAYLIGHT
TZOFFSETFROM:-0500
TZOFFSETTO:-0400
TZNAME:EDT
DTSTART:20270314T070000
END:DAYLIGHT
BEGIN:STANDARD
TZOFFSETFROM:-0400
TZOFFSETTO:-0500
TZNAME:EST
DTSTART:20271107T060000
END:STANDARD
END:VTIMEZONE
BEGIN:VEVENT
DTSTART;TZID=America/New_York:20260218T120000
DTEND;TZID=America/New_York:20260218T130000
DTSTAMP:20260423T221046
CREATED:20260204T162115Z
LAST-MODIFIED:20260204T162351Z
UID:1500-1771416000-1771419600@www.tamalafloyd.com
SUMMARY:Healing the Wounded Heart Transformational Workshop
DESCRIPTION:I’m hosting a live workshop on Healing the Wounded HeartFebruary 18 at 12 PM EST \nThis workshop is for those who want to gently explore how past wounds shape how we love\, protect\, and stay open in relationships. \nTogether\, we’ll explore:\n• The lessons of the wounded heart• The costs and benefits of protecting ourselves from future pain• What it means to remain open to life and love• How our deepest wounds can become powerful medicine \nThis is relational healing work with the individual\, not couples work. A space to listen inward\, tend to attachment wounds\, and begin shifting long-standing relational patterns with care. \nIf you feel a quiet yes\, I invite you to join us.Register here:https://us06web.zoom.us/meeting/register/3BsipGyfSpyuiQCT399N9g#/registration
URL:https://www.tamalafloyd.com/event/healing-the-wounded-heart-transformational-workshop/
CATEGORIES:TLA Workshop
ATTACH;FMTTYPE=image/png:https://www.tamalafloyd.com/wp-content/uploads/2026/02/Feb-4.png
ORGANIZER;CN="Tamala Floyd%2C The Living Ancestor":MAILTO:info@tamalafloyd.com
END:VEVENT
END:VCALENDAR